BEGIN:VCALENDAR
METHOD:PUBLISH
VERSION:2.0
CALSCALE:GREGORIAN
PRODID:-//NONSGML WPForms//NONSGML Sugar Calendar Feeds v3.10.0//EN
X-WR-CALNAME:Using-Data-to-Win-2026
X-WR-CALDESC:Becker Digital Strategies
X-WR-TIMEZONE:UTC
BEGIN:VTIMEZONE
TZID:UTC
BEGIN:STANDARD
TZOFFSETFROM:+0000
TZOFFSETTO:+0000
DTSTART:20250921T230000
TZNAME:UTC
END:STANDARD
END:VTIMEZONE
BEGIN:VTIMEZONE
TZID:UTC
BEGIN:STANDARD
TZOFFSETFROM:+0000
TZOFFSETTO:+0000
DTSTART:20250921T230000
TZNAME:UTC
END:STANDARD
END:VTIMEZONE
BEGIN:VEVENT
SUMMARY:Using Data to Win- 2026
DESCRIPTION:
URL;VALUE=URI:https://beckerdigitaltraining.com/sc_recurring_event/using
 -data-to-win-2026/
UID:urn:uuid:3b0a5542-dff8-4c81-bfa9-ed731e5357d8
STATUS:CONFIRMED
ORGANIZER:
DTSTAMP:20260420T095039Z
DTSTART;TZID=UTC:20260323T110000
DTEND;TZID=UTC:20260323T190000
RRULE:FREQ=DAILY;INTERVAL=1;COUNT=2
END:VEVENT
END:VCALENDAR